BEGIN:VCALENDAR
VERSION:2.0
PRODID:-//Cellar 8 Wine Bar - ECPv6.15.20//NONSGML v1.0//EN
CALSCALE:GREGORIAN
METHOD:PUBLISH
X-WR-CALNAME:Cellar 8 Wine Bar
X-ORIGINAL-URL:https://cellar8winebar.com
X-WR-CALDESC:Events for Cellar 8 Wine Bar
REFRESH-INTERVAL;VALUE=DURATION:PT1H
X-Robots-Tag:noindex
X-PUBLISHED-TTL:PT1H
BEGIN:VTIMEZONE
TZID:America/Los_Angeles
BEGIN:DAYLIGHT
TZOFFSETFROM:-0800
TZOFFSETTO:-0700
TZNAME:PDT
DTSTART:20250309T100000
END:DAYLIGHT
BEGIN:STANDARD
TZOFFSETFROM:-0700
TZOFFSETTO:-0800
TZNAME:PST
DTSTART:20251102T090000
END:STANDARD
BEGIN:DAYLIGHT
TZOFFSETFROM:-0800
TZOFFSETTO:-0700
TZNAME:PDT
DTSTART:20260308T100000
END:DAYLIGHT
BEGIN:STANDARD
TZOFFSETFROM:-0700
TZOFFSETTO:-0800
TZNAME:PST
DTSTART:20261101T090000
END:STANDARD
BEGIN:DAYLIGHT
TZOFFSETFROM:-0800
TZOFFSETTO:-0700
TZNAME:PDT
DTSTART:20270314T100000
END:DAYLIGHT
BEGIN:STANDARD
TZOFFSETFROM:-0700
TZOFFSETTO:-0800
TZNAME:PST
DTSTART:20271107T090000
END:STANDARD
END:VTIMEZONE
BEGIN:VEVENT
DTSTART;TZID=America/Los_Angeles:20260421T180000
DTEND;TZID=America/Los_Angeles:20260421T190000
DTSTAMP:20260421T150701
CREATED:20260331T003633Z
LAST-MODIFIED:20260331T003633Z
UID:4654-1776794400-1776798000@cellar8winebar.com
SUMMARY:Earth Day Trivia at Cellar 8!
DESCRIPTION:Join us for a fun and laid-back Earth Day–themed trivia night at Cellar 8! We’ll cover a mix of topics inspired by our world—think geography\, nature\, fun facts\, and a little bit of everything in between. Grab your team\, pour a glass\, and get ready for a lively evening of friendly competition\, great wine\, and plenty of laughs. \nNo reservations required – first come\, first served!
URL:https://cellar8winebar.com/event/earth-day-trivia-at-cellar-8/
ATTACH;FMTTYPE=image/jpeg:https://cellar8winebar.com/wp-content/uploads/2026/03/Earth-Day-TRIVIA.jpg
END:VEVENT
END:VCALENDAR